BEGIN:VCALENDAR
VERSION:2.0
METHOD:PUBLISH
BEGIN:VEVENT
UID:WILD_APRICOT_EVENT_3626889_SESSION_1
DTSTART:20200220T053000Z
DTEND:20200319T063000Z
SUMMARY:TIERI Science Club T1 2020
LOCATION:Tieri Recreation centre
DESCRIPTION:https://chscience.com.au/event-3626889\n\nScience Club is a five week.  This is run on a Thursday afternoon in TIERI\n \n Please note this is a member only event and is suitable for children aged 6-12 years of age. Annual membership required in order to register. Please register for membership prior to booking. SCIENCE CLUB TERMS WILL BE EMAILED UPON REGISTRATION\n\n
DTSTAMP:20200225T072951Z
END:VEVENT
END:VCALENDAR
