BEGIN:VCALENDAR
VERSION:2.0
METHOD:PUBLISH
BEGIN:VEVENT
UID:WILD_APRICOT_EVENT_3626887_SESSION_1
DTSTART:20200217T060000Z
DTEND:20200316T070000Z
SUMMARY:BLACKWATER science club T1 2020
LOCATION:31 Littlefield street
DESCRIPTION:https://chscience.com.au/event-3626887\n\nScience Club is a five week program.This is run on a Monday afternoon from Blackwater activities centre\n  Please note this is a member only event and is suitable for children aged 6-12 years of age. Annual membership required in order to register. Please register for membership prior to booking. SCIENCE CLUB TERMS WILL BE EMAILED UPON REGISTRATION\n\n
DTSTAMP:20200225T072914Z
END:VEVENT
END:VCALENDAR
