BEGIN:VCALENDAR
VERSION:2.0
METHOD:PUBLISH
BEGIN:VEVENT
UID:WILD_APRICOT_EVENT_3625293_SESSION_1
DTSTART:20200220T231500Z
DTEND:20200320T000000Z
SUMMARY:Emerald Curiosity Club 2020 Term 1 Fridays
LOCATION:Emerald showgrounds underneath the Grandstand
DESCRIPTION:https://chscience.com.au/event-3625293\n\nCuriosity Club is a five week program. Mini experiments for Mini scientists.\n \n Please note this is a member only event and is suitable for children aged 3-5 years of age. A Parent/Guardian is required to accompany the child. Annual membership required in order to register. Please make sure you have signed up for membership prior to starting the program. CURIOSITY CLUB TERMS WILL BE EMAILED UPON REGISTRATION\n \n\n
DTSTAMP:20200225T073003Z
END:VEVENT
END:VCALENDAR
