BEGIN:VCALENDAR
VERSION:2.0
METHOD:PUBLISH
BEGIN:VEVENT
UID:WILD_APRICOT_EVENT_3617105_SESSION_1
DTSTART:20200219T060000Z
DTEND:20200318T070000Z
SUMMARY:Emerald Science club WEDNESDAY-T1 2020
LOCATION:Emerald showgrounds underneath the grandstand
DESCRIPTION:https://chscience.com.au/event-3617105\n\nScience Club is a five week program. Each term has a different theme.  The theme for this term is 'Dirt World'.  This is run on a Wednesday afternoon\n \n Please note this is a member only event and is suitable for children aged 8-12 years of age. Annual membership required in order to register. Please register for membership prior to booking . SCIENCE CLUB TERMS WILL BE EMAILED UPON REGISTRATION\n\n
DTSTAMP:20200225T072939Z
END:VEVENT
END:VCALENDAR
