BEGIN:VCALENDAR
VERSION:2.0
METHOD:PUBLISH
BEGIN:VEVENT
UID:WILD_APRICOT_EVENT_3541965_SESSION_1
DTSTART:20191015T060000Z
DTEND:20191112T070000Z
SUMMARY:Emerald Science club Electrons-TUESDAY T4
LOCATION:Emerald showgrounds under the grandstand
DESCRIPTION:https://chscience.com.au/event-3541965\n\nScience Club is a five week program. Each term has a different theme.  The theme for this term is 'JUST ADD WATER'.  This is run on a Tuesday afternoon\n \n Please note this is a member only event and is suitable for children aged 6-9 years of age. Annual membership required in order to register. Please register for membership prior to booking. SCIENCE CLUB TERMS WILL BE EMAILED UPON REGISTRATION\n \n\n
DTSTAMP:20200225T073026Z
END:VEVENT
END:VCALENDAR
