BEGIN:VCALENDAR
VERSION:2.0
METHOD:PUBLISH
BEGIN:VEVENT
UID:WILD_APRICOT_EVENT_3470614_SESSION_1
DTSTART:20190811T233000Z
DTEND:20190909T001500Z
SUMMARY:Blackwater Curiosity Club
LOCATION:31 littlefield Street Blackwater
DESCRIPTION:https://chscience.com.au/event-3470614\n\nCuriosity Club is a five week program. This term we are running an 'Earthly Secrets' program \n \n Please note this is a member only event and is suitable for children aged 3-5 years of age. Annual membership required in order to register. Please make sure you have signed up for membership prior to starting the program \n\n
DTSTAMP:20200225T073047Z
END:VEVENT
END:VCALENDAR
