BEGIN:VCALENDAR
VERSION:2.0
METHOD:PUBLISH
BEGIN:VEVENT
UID:WILD_APRICOT_EVENT_3470563_SESSION_1
DTSTART:20190808T231500Z
DTEND:20190906T000000Z
SUMMARY:Emerald Curiosity Club
LOCATION:Emerald showgrounds underneath the Grandstand
DESCRIPTION:https://chscience.com.au/event-3470563\n\nCuriosity Club is a five week program. This term we are running a Fun lab program for our mini scientists.\n \n Please note this is a member only event and is suitable for children aged 3-5 years of age. Annual membership required in order to register. Please make sure you have signed up for membership prior to starting the progam\n \n\n
DTSTAMP:20200225T073059Z
END:VEVENT
END:VCALENDAR
