BEGIN:VCALENDAR
VERSION:2.0
METHOD:PUBLISH
BEGIN:VEVENT
UID:WILD_APRICOT_EVENT_3470557_SESSION_1
DTSTART:20190808T060000Z
DTEND:20190905T070000Z
SUMMARY:Emerald science club Protons- THURSDAY
LOCATION:Emerald showgrounds underneath the grandstand
DESCRIPTION:https://chscience.com.au/event-3470557\n\nScience Club is a five week program. Each term has a different theme.  The theme for this term is 'Body Systems'.  This is run on a Thursday afternoon\n \n Please note this is a member only event and is suitable for children aged 10-12 years of age. Annual membership required in order to register. Please register for membership prior to booking \n\n
DTSTAMP:20200225T073110Z
END:VEVENT
END:VCALENDAR
