BEGIN:VCALENDAR
VERSION:2.0
METHOD:PUBLISH
BEGIN:VEVENT
UID:WILD_APRICOT_EVENT_3470539_SESSION_1
DTSTART:20190807T060000Z
DTEND:20190904T070000Z
SUMMARY:Emerald Science club Neutrons-WEDNESDAY
LOCATION:Emerald showgrounds underneath the grandstand
DESCRIPTION:https://chscience.com.au/event-3470539\n\nScience Club is a five week program. Each term has a different theme.  The theme for this term is 'Body Systems'.  This is run on a Wednesday afternoon\n \n Please note this is a member only event and is suitable for children aged 6-9 years of age. Annual membership required in order to register. Please register for membership prior to booking \n\n
DTSTAMP:20200225T073122Z
END:VEVENT
END:VCALENDAR
