BEGIN:VCALENDAR
VERSION:2.0
METHOD:PUBLISH
BEGIN:VEVENT
UID:WILD_APRICOT_EVENT_3441005_SESSION_1
DTSTART:20190812T060000Z
DTEND:20190909T070000Z
SUMMARY:Blackwater Science Club Earthly Secrets
LOCATION:31 Littlefield Street Blackwater
DESCRIPTION:https://chscience.com.au/event-3441005\n\nScience Club is a five week program. Each term has a different theme.  The theme for this term is 'Earthly Secrets'.\n \n Please note this is a member only event and is suitable for children aged 5-12 years of age. Annual membership required in order to register. To become a member click the Membership above.\n Use your membership details to log-in and then register for the event.\n
DTSTAMP:20200225T073037Z
END:VEVENT
END:VCALENDAR
